BEGIN:VCALENDAR
VERSION:2.0
PRODID:-//James River Outdoor Coalition - ECPv6.15.17//NONSGML v1.0//EN
CALSCALE:GREGORIAN
METHOD:PUBLISH
X-ORIGINAL-URL:https://jroc.net
X-WR-CALDESC:Events for James River Outdoor Coalition
REFRESH-INTERVAL;VALUE=DURATION:PT1H
X-Robots-Tag:noindex
X-PUBLISHED-TTL:PT1H
BEGIN:VTIMEZONE
TZID:America/New_York
BEGIN:DAYLIGHT
TZOFFSETFROM:-0500
TZOFFSETTO:-0400
TZNAME:EDT
DTSTART:20160313T070000
END:DAYLIGHT
BEGIN:STANDARD
TZOFFSETFROM:-0400
TZOFFSETTO:-0500
TZNAME:EST
DTSTART:20161106T060000
END:STANDARD
BEGIN:DAYLIGHT
TZOFFSETFROM:-0500
TZOFFSETTO:-0400
TZNAME:EDT
DTSTART:20170312T070000
END:DAYLIGHT
BEGIN:STANDARD
TZOFFSETFROM:-0400
TZOFFSETTO:-0500
TZNAME:EST
DTSTART:20171105T060000
END:STANDARD
BEGIN:DAYLIGHT
TZOFFSETFROM:-0500
TZOFFSETTO:-0400
TZNAME:EDT
DTSTART:20180311T070000
END:DAYLIGHT
BEGIN:STANDARD
TZOFFSETFROM:-0400
TZOFFSETTO:-0500
TZNAME:EST
DTSTART:20181104T060000
END:STANDARD
END:VTIMEZONE
BEGIN:VEVENT
DTSTART;TZID=America/New_York:20170422T180000
DTEND;TZID=America/New_York:20170422T230000
DTSTAMP:20260422T063149
CREATED:20170406T013505Z
LAST-MODIFIED:20170406T013624Z
UID:229-1492884000-1492902000@jroc.net
SUMMARY:Gear Swap Post Party at Goatocado
DESCRIPTION:Starting after the Earth Day festivities and Gear Swap\, join JROC at Goatocado in The Fan and keep the party rolling. Goatocado is donating a portion of the proceeds to JROC.
URL:https://jroc.net/event/gear-swap-post-party-goatocado/
LOCATION:Goatocado\, 1823 Main St\, Richmond\, VA\, 23225\, United States
CATEGORIES:Fundraiser
ATTACH;FMTTYPE=image/png:https://jroc.net/wp-content/uploads/2017/04/goatocado-building.png
END:VEVENT
END:VCALENDAR